BEGIN:VCALENDAR
VERSION:2.0
PRODID:-//ChamberMaster//Event Calendar 2.0//EN
METHOD:PUBLISH
X-PUBLISHED-TTL:P3D
REFRESH-INTERVAL:P3D
CALSCALE:GREGORIAN
BEGIN:VEVENT
DTSTART:20070428T150000Z
DTEND:20070428T210000Z
X-MICROSOFT-CDO-ALLDAYEVENT:FALSE
SUMMARY:Hunterwood Estates Grand Opening
DESCRIPTION:We're Celebrating The Grand Opening of Hunterwood Estates!!!\n\nJoin us for \nBBQ & Hot Dogs\nChance to win an all-inclusive\, 4 night Carnival Cruise for 2\nFree KUBOTA lawn tractor at closing for anyone who reserves a lot during Open House
X-ALT-DESC;FMTTYPE=text/html:We're Celebrating The Grand Opening of Hunterwood Estates!!!\n\nJoin us for \nBBQ & Hot Dogs\nChance to win an all-inclusive\, 4 night Carnival Cruise for 2\nFree KUBOTA lawn tractor at closing for anyone who reserves a lot during Open House\n
LOCATION:Hunterwood Estates Tomball\, Texas
UID:e.155.2224
SEQUENCE:3
DTSTAMP:20260422T104633Z
URL:https://business.tomballchamber.org/events/details/hunterwood-estates-grand-opening-04-28-2007-2224
END:VEVENT

END:VCALENDAR
