BEGIN:VCALENDAR
VERSION:2.0
PRODID:-//ChamberMaster//Event Calendar 2.0//EN
METHOD:PUBLISH
X-PUBLISHED-TTL:P3D
REFRESH-INTERVAL:P3D
CALSCALE:GREGORIAN
BEGIN:VEVENT
DTSTART:20220701T160000Z
DTEND:20220701T170000Z
X-MICROSOFT-CDO-ALLDAYEVENT:FALSE
SUMMARY:Houston Repertoire Ballet presents: Riviera Holiday!
DESCRIPTION:Join us as Houston Repertoire Ballet presents: Riviera Holiday! Library books aren't the only way to tell a story: dance can tell a story too! The Riviera Holiday is a jazz-age comedy ballet that will be performed at the LSC-Tomball Community Library! This ballet is a playful romp that takes place at a 1920's French Riviera resort. Bathing Beauties in 20's-era swim caps\, Flappers in fringe\, sassy Tennis Players and Golfers\, a very officious Ma tre D' and a handsome College Man all meet up in this comic vacation! Kristy Nilsson\, the Resident Choreographer for Houston Repertoire Ballet\, has adapted the nearly century-old ballet to create a delightful Jazz-Age Vacation\, Filled with Fun\, Sun and Romance! Ms. Nilsson will narrate this comedic ballet for a children's audience in an informal setting perfect for all ages! Registration required at http://www.hcpl.net/events/63806/registration/add Friday\, July 1 at 11am Community Engagement Area
X-ALT-DESC;FMTTYPE=text/html:Join us as Houston Repertoire Ballet presents: Riviera Holiday! Library books aren&#39\;t the only way to tell a story: dance can tell a story too! The Riviera Holiday is a jazz-age comedy ballet that will be performed at the LSC-Tomball Community Library! This ballet is a playful romp that takes place at a 1920&#39\;s French Riviera resort. Bathing Beauties in 20&#39\;s-era swim caps\, Flappers in fringe\, sassy Tennis Players and Golfers\, a very officious Ma&icirc\;tre D&rsquo\; and a handsome College Man all meet up in this comic vacation! Kristy Nilsson\, the Resident Choreographer for Houston Repertoire Ballet\, has adapted the nearly century-old ballet to create a delightful Jazz-Age Vacation\, Filled with Fun\, Sun and Romance! Ms. Nilsson will narrate this comedic ballet for a children&#39\;s audience in an informal setting perfect for all ages! Registration required at http://www.hcpl.net/events/63806/registration/add Friday\, July 1 at 11am Community Engagement Area
LOCATION:LSC-Tomball Community Library 30555 Tomball Parkway Tomball\, TX 77375
UID:e.155.36201
SEQUENCE:3
DTSTAMP:20260421T081844Z
URL:https://business.tomballchamber.org/events/details/houston-repertoire-ballet-presents-riviera-holiday-36201
END:VEVENT

END:VCALENDAR
