BEGIN:VCALENDAR
VERSION:2.0
PRODID:-//ChamberMaster//Event Calendar 2.0//EN
METHOD:PUBLISH
X-PUBLISHED-TTL:P3D
REFRESH-INTERVAL:P3D
CALSCALE:GREGORIAN
BEGIN:VEVENT
DTSTART:20080626T170000Z
DTEND:20080626T210000Z
X-MICROSOFT-CDO-ALLDAYEVENT:FALSE
SUMMARY:Houston Dynamo Corporate Olympics
DESCRIPTION:Looking for a fun and unique team building experience?  Want to raise the competition?  The Dynamo Corporate Olympics is the ultimate way to improve team bonding!\n\nThe Corporate Olympics is designed to enhance group cohesion while competing against other teams in a series of exciting athletic challenges including tug-of-war\, dodge ball\, soccer\, an obstacle course and much more.  The Corporate Olympics is intended to improve communication\, team strength\, and problem solving skills in a fun\, stress-free environment. Enter today to bring out your team?s competitive edge!  \n\nThe Corporate Olympics tournament will start at Noon on Thursday\, June 26th.  The competitions will take place throughout the day at the University of Houston ? Campus Recreation and Wellness Center.  \n\nAfter all the fun and excitement\, head over to Robertson Stadium to watch the Houston Dynamo take on in-state rival\, FC Dallas!   Kickoff will take place at 8:00p.m. We will accommodate your team with changing facilities\, showers\, and dinner prior to the Dynamo game.\n\n10 PERSON TEAM INCLUDES:\n- Tournament entry into the Corporate Olympics\n- Official Houston Dynamo T-shirt for all participants\n- Complementary Dinner for all team members\n- 10 tickets to the Houston Dynamo vs. FC Dallas game following the Corporate Olympics\n- 1st\, 2nd\, and 3rd place teams receive on-field recognition.\n\nCOST PER TEAM: $575\n\nAs part of the day?s festivities\, we will be recognizing former Olympians as well as local athletes headed to Beijing for the 2008 Olympic Games in an ?Opening Ceremony? before kickoff of the Dynamo game.\n\nWant your family and friends to see your crowning moment at the Dynamo game?  Additional Dynamo vs. FC Dallas tickets may be purchased at discount\, so have your team?s families join in the Olympic spirit!
X-ALT-DESC;FMTTYPE=text/html:Looking for a fun and unique team building experience?  Want to raise the competition?  The Dynamo Corporate Olympics is the ultimate way to improve team bonding!\n\nThe Corporate Olympics is designed to enhance group cohesion while competing against other teams in a series of exciting athletic challenges including tug-of-war\, dodge ball\, soccer\, an obstacle course and much more.  The Corporate Olympics is intended to improve communication\, team strength\, and problem solving skills in a fun\, stress-free environment. Enter today to bring out your team?s competitive edge!  \n\nThe Corporate Olympics tournament will start at Noon on Thursday\, June 26th.  The competitions will take place throughout the day at the University of Houston ? Campus Recreation and Wellness Center.  \n\nAfter all the fun and excitement\, head over to Robertson Stadium to watch the Houston Dynamo take on in-state rival\, FC Dallas!   Kickoff will take place at 8:00p.m. We will accommodate your team with changing facilities\, showers\, and dinner prior to the Dynamo game.\n\n10 PERSON TEAM INCLUDES:\n- Tournament entry into the Corporate Olympics\n- Official Houston Dynamo T-shirt for all participants\n- Complementary Dinner for all team members\n- 10 tickets to the Houston Dynamo vs. FC Dallas game following the Corporate Olympics\n- 1st\, 2nd\, and 3rd place teams receive on-field recognition.\n\nCOST PER TEAM: $575\n\nAs part of the day?s festivities\, we will be recognizing former Olympians as well as local athletes headed to Beijing for the 2008 Olympic Games in an ?Opening Ceremony? before kickoff of the Dynamo game.\n\nWant your family and friends to see your crowning moment at the Dynamo game?  Additional Dynamo vs. FC Dallas tickets may be purchased at discount\, so have your team?s families join in the Olympic spirit!  \n
LOCATION:University of Houston ? Campus Recreation and Wellness Center
UID:e.155.2537
SEQUENCE:3
DTSTAMP:20260421T110605Z
URL:https://business.tomballchamber.org/events/details/houston-dynamo-corporate-olympics-06-26-2008-2537
END:VEVENT

END:VCALENDAR
