BEGIN:VCALENDAR
VERSION:2.0
PRODID:-//ChamberMaster//Event Calendar 2.0//EN
METHOD:PUBLISH
X-PUBLISHED-TTL:P3D
REFRESH-INTERVAL:P3D
CALSCALE:GREGORIAN
BEGIN:VEVENT
DTSTART:20070508T220000Z
DTEND:20070509T000000Z
X-MICROSOFT-CDO-ALLDAYEVENT:FALSE
SUMMARY:Hilton Garden Northwest
DESCRIPTION:Business After Hours\nHilton Garden Inn
X-ALT-DESC;FMTTYPE=text/html:Business After Hours<br />Hilton Garden Inn
LOCATION:7979 Willow Chase Blvd Houston\, Texas 77070 832.912.1000
UID:e.155.2232
SEQUENCE:3
DTSTAMP:20260422T091248Z
URL:https://business.tomballchamber.org/events/details/hilton-garden-northwest-05-08-2007-2232
END:VEVENT

END:VCALENDAR
