BEGIN:VCALENDAR
VERSION:2.0
PRODID:-//ChamberMaster//Event Calendar 2.0//EN
METHOD:PUBLISH
X-PUBLISHED-TTL:P3D
REFRESH-INTERVAL:P3D
CALSCALE:GREGORIAN
BEGIN:VEVENT
DTSTART:20080616T040000Z
DTEND:20080615T200000Z
X-MICROSOFT-CDO-ALLDAYEVENT:FALSE
SUMMARY:High Octane Car Show
DESCRIPTION:Father's Day Family Festival and High Octane Car\, Truck\, Motorcycle and Tractor Show. Kid games\, barbecue\, competition games\, a "manly" event! Come for worship at 9 or 10:30 a.m. for a special High Octane: What Drives A Man message with real men of genius out-takes! Bring the family for an afternoon of fun and games! (Also\, accepting show participants!)
X-ALT-DESC;FMTTYPE=text/html:Father's Day Family Festival and High Octane Car\, Truck\, Motorcycle and Tractor Show. Kid games\, barbecue\, competition games\, a "manly" event! Come for worship at 9 or 10:30 a.m. for a special High Octane: What Drives A Man message with real men of genius out-takes! Bring the family for an afternoon of fun and games! (Also\, accepting show participants!)
LOCATION:Salem Campus
UID:e.155.2473
SEQUENCE:3
DTSTAMP:20260421T110616Z
URL:https://business.tomballchamber.org/events/details/high-octane-car-show-06-15-2008-2473
END:VEVENT

END:VCALENDAR
