BEGIN:VCALENDAR
VERSION:2.0
PRODID:-//ChamberMaster//Event Calendar 2.0//EN
METHOD:PUBLISH
X-PUBLISHED-TTL:P3D
REFRESH-INTERVAL:P3D
CALSCALE:GREGORIAN
BEGIN:VEVENT
DTSTART:20080412T150000Z
DTEND:20080412T180000Z
X-MICROSOFT-CDO-ALLDAYEVENT:FALSE
SUMMARY:Healthy Kids Day 2008
DESCRIPTION:This is a completely FREE Event fun for the whole family.  We will have several vendors out offering healthy eating tips for the family and great ways to do fun family exercises.  There will be food\, games\, bounce houses\, clowns for balloon animals and face painting\, bungee trampoline and so much more for the kids to enjoy.  \n\nIf you are interested in being a part of our Healthy Kids Day as either a vendor or a volunteer please contact me!
X-ALT-DESC;FMTTYPE=text/html:This is a completely FREE Event fun for the whole family.  We will have several vendors out offering healthy eating tips for the family and great ways to do fun family exercises.  There will be food\, games\, bounce houses\, clowns for balloon animals and face painting\, bungee trampoline and so much more for the kids to enjoy.  \n\nIf you are interested in being a part of our Healthy Kids Day as either a vendor or a volunteer please contact me! 
LOCATION:Cypress Creek Family YMCA 19915 S.H. 249 Houston\, TX 77070
UID:e.155.2444
SEQUENCE:3
DTSTAMP:20260421T145807Z
URL:https://business.tomballchamber.org/events/details/healthy-kids-day-2008-04-12-2008-2444
END:VEVENT

END:VCALENDAR
