BEGIN:VCALENDAR
VERSION:2.0
PRODID:-//ChamberMaster//Event Calendar 2.0//EN
METHOD:PUBLISH
X-PUBLISHED-TTL:P3D
REFRESH-INTERVAL:P3D
CALSCALE:GREGORIAN
BEGIN:VEVENT
DTSTART;VALUE=DATE:20080204
DTEND;VALUE=DATE:20080301
TRANSP:TRANSPARENT
X-MICROSOFT-CDO-ALLDAYEVENT:TRUE
SUMMARY:Healthy Heart\, Healthy You Program at Emergency Health Centre
DESCRIPTION:Every Monday night in February\, from 4:00 pm to 8:00 p.m.\, Emergency Health Centre's staff and partners will provide you with important information on how to keep your heart -- and your health -- performing at its best.Â  We'll also be offering discounted heart and lung scans at our new Imaging and Diagnostic Center\, along with great prizes each week!Â  If you can't make the Monday night sessions\, we encourage you to stop by during the week -- our staff will be available all week long to answer your questions and provide you with a complementary Healthy Heart Packet with all theÂ informationÂ you need to keep your heart healthy.
X-ALT-DESC;FMTTYPE=text/html:Every Monday night in February\, from 4:00 pm to 8:00 p.m.\, Emergency Health Centre's staff and partners will provide you with important information on how to keep your heart -- and your health -- performing at its best.Â  We'll also be offering discounted heart and lung scans at our new Imaging and Diagnostic Center\, along with great prizes each week!Â  If you can't make the Monday night sessions\, we encourage you to stop by during the week -- our staff will be available all week long to answer your questions and provide you with a complementary Healthy Heart Packet with all theÂ informationÂ you need to keep your heart healthy.\n
LOCATION:22475 Tomball Parkway Houston\, TX 77070
UID:e.155.2390
SEQUENCE:3
DTSTAMP:20260421T183225Z
URL:https://business.tomballchamber.org/events/details/healthy-heart-healthy-you-program-at-emergency-health-centre-02-04-2008-2390
END:VEVENT

END:VCALENDAR
