BEGIN:VCALENDAR
VERSION:2.0
PRODID:-//ChamberMaster//Event Calendar 2.0//EN
METHOD:PUBLISH
X-PUBLISHED-TTL:P3D
REFRESH-INTERVAL:P3D
CALSCALE:GREGORIAN
BEGIN:VEVENT
DTSTART:20080219T060000Z
DTEND:20080219T060000Z
X-MICROSOFT-CDO-ALLDAYEVENT:FALSE
SUMMARY:''Healthy Heart\, Healthy You'' at Emergency Health Centre
DESCRIPTION:Emergency Health Centre at Willowbrook is recognizing Heart Disease Awareness Month this February with a free\, month-long series of events\, ?Healthy Heart\, Healthy You?. We?ll be offering promotional heart scans\, lung scans\, & screenings & as well as free EKG?s\, and great prizes each week! Our staff will be available to answer your questions & provide you with a complimentary Healthy Heart Packet with all the information you need to keep your heart healthy. An event kicks off every Monday in February at Emergency Health Centre at Willowbrook.  \n\nMonday\, February 18th\, 4-8 p.m.: Give a Gift from the Heart.  Emergency Health Centre at Willowbrook hosts a blood drive for the Gulf Coast Regional Blood Center.  While at the facility\, pick up information on the steps to effective heart disease prevention.  Discounted Healthy Heart scans also are available.
X-ALT-DESC;FMTTYPE=text/html:Emergency Health Centre at Willowbrook is recognizing Heart Disease Awareness Month this February with a free\, month-long series of events\, ?Healthy Heart\, Healthy You?. We?ll be offering promotional heart scans\, lung scans\, & screenings & as well as free EKG?s\, and great prizes each week! Our staff will be available to answer your questions & provide you with a complimentary Healthy Heart Packet with all the information you need to keep your heart healthy. An event kicks off every Monday in February at Emergency Health Centre at Willowbrook.  \n\nMonday\, February 18th\, 4-8 p.m.: Give a Gift from the Heart.  Emergency Health Centre at Willowbrook hosts a blood drive for the Gulf Coast Regional Blood Center.  While at the facility\, pick up information on the steps to effective heart disease prevention.  Discounted Healthy Heart scans also are available.  \n
LOCATION:22475 Tomball Parkway (Highway 249) between Louetta Road and Spring Cypress.
UID:e.155.2398
SEQUENCE:3
DTSTAMP:20260421T183505Z
URL:https://business.tomballchamber.org/events/details/healthy-heart-healthy-you-at-emergency-health-centre-02-19-2008-2398
END:VEVENT

END:VCALENDAR
