BEGIN:VCALENDAR
VERSION:2.0
PRODID:-//ChamberMaster//Event Calendar 2.0//EN
METHOD:PUBLISH
X-PUBLISHED-TTL:P3D
REFRESH-INTERVAL:P3D
CALSCALE:GREGORIAN
BEGIN:VEVENT
DTSTART:20080204T220000Z
DTEND:20080205T020000Z
X-MICROSOFT-CDO-ALLDAYEVENT:FALSE
SUMMARY:''Healthy Heart\, Healthy You'' at Emergency Health Centre
DESCRIPTION:Emergency Health Centre at Willowbrook is recognizing Heart Disease Awareness Month this February with a free\, month-long series of events\, "Healthy Heart\, Healthy You". We?ll be offering promotional heart scans\, lung scans\,   learn how to start a year-round walking program with the American Heart Association?s Start! initiative\; and see how heart scans can detect the early stages of heart disease.
X-ALT-DESC;FMTTYPE=text/html:Emergency Health Centre at Willowbrook is recognizing Heart Disease Awareness Month this February with a free\, month-long series of events\, "Healthy Heart\, Healthy You". We?ll be offering promotional heart scans\, lung scans\, & screenings & as well as free EKG's\, and great prizes each week! Our staff will be available to answer your questions & provide you with a complimentary Healthy Heart Packet with all the information you need to keep your heart healthy. An event kicks off every Monday in February at Emergency Health Centre at Willowbrook.  \n\nMonday\, February 4th\, 4-8 p.m.: \nGetting Your Heart in Shape.  Receive complimentary fitness profiles and assessments from exercise professionals at the YMCA\; learn how to start a year-round walking program with the American Heart Association?s Start! initiative\; and see how heart scans can detect the early stages of heart disease. 
LOCATION:22475 Tomball Parkway (Highway 249) between Louetta Road and Spring Cypress.
UID:e.155.2396
SEQUENCE:3
DTSTAMP:20260421T183424Z
URL:https://business.tomballchamber.org/events/details/healthy-heart-healthy-you-at-emergency-health-centre-02-04-2008-2396
END:VEVENT

END:VCALENDAR
