BEGIN:VCALENDAR
VERSION:2.0
PRODID:-//ChamberMaster//Event Calendar 2.0//EN
METHOD:PUBLISH
X-PUBLISHED-TTL:P3D
REFRESH-INTERVAL:P3D
CALSCALE:GREGORIAN
BEGIN:VEVENT
DTSTART;VALUE=DATE:20080130
DTEND;VALUE=DATE:20080131
TRANSP:TRANSPARENT
X-MICROSOFT-CDO-ALLDAYEVENT:TRUE
SUMMARY:''Healthy Heart\, Healthy You'' at Emergency Health Centre
DESCRIPTION:Emergency Health Centre at Willowbrook is recognizing Heart Disease Awareness Month this February with a free\, month-long series of events\, ?Healthy Heart\, Healthy You?. We?ll be offering promotional heart scans\, lung scans\, & screenings & as well as free EKG?s\, and great prizes each week! Our staff will be available to answer your questions & provide you with a complimentary Healthy Heart Packet with all the information you need to keep your heart healthy. An event kicks off every Monday in February at Emergency Health Centre at Willowbrook.  \n\nMonday\, February 25th\, 4-8 p.m.: Working Out the Stress.  Enjoy complimentary massage treatments and learn how simple\, at-home reflexology can reduce day-to-day stress levels. Tips to stop smoking will be presented by the American Cancer Society.  Discounted lung scans also are available.
X-ALT-DESC;FMTTYPE=text/html:Emergency Health Centre at Willowbrook is recognizing Heart Disease Awareness Month this February with a free\, month-long series of events\, ?Healthy Heart\, Healthy You?. We?ll be offering promotional heart scans\, lung scans\, & screenings & as well as free EKG?s\, and great prizes each week! Our staff will be available to answer your questions & provide you with a complimentary Healthy Heart Packet with all the information you need to keep your heart healthy. An event kicks off every Monday in February at Emergency Health Centre at Willowbrook.  \n\nMonday\, February 25th\, 4-8 p.m.: Working Out the Stress.  Enjoy complimentary massage treatments and learn how simple\, at-home reflexology can reduce day-to-day stress levels. Tips to stop smoking will be presented by the American Cancer Society.  Discounted lung scans also are available.
LOCATION:22475 Tomball Parkway (Highway 249) between Louetta Road and Spring Cypress.
UID:e.155.2399
SEQUENCE:3
DTSTAMP:20260421T201959Z
URL:https://business.tomballchamber.org/events/details/healthy-heart-healthy-you-at-emergency-health-centre-01-30-2008-2399
END:VEVENT

END:VCALENDAR
