BEGIN:VCALENDAR
VERSION:2.0
PRODID:-//ChamberMaster//Event Calendar 2.0//EN
METHOD:PUBLISH
X-PUBLISHED-TTL:P3D
REFRESH-INTERVAL:P3D
CALSCALE:GREGORIAN
BEGIN:VEVENT
DTSTART:20241030T170000Z
DTEND:20241030T180000Z
X-MICROSOFT-CDO-ALLDAYEVENT:FALSE
SUMMARY:Health and Wellness Comittee Meeting
DESCRIPTION:Health and Wellness Committee Meeting\n\n\n\nChamber members that are in the health & wellness realm\, you are invited to join us as we discuss hot topics and network.
X-ALT-DESC;FMTTYPE=text/html:Health and Wellness Committee Meeting<br />\n<br />\nChamber members that are in the health &amp\; wellness realm\, you are invited to join us as we discuss hot topics and network.&nbsp\;
LOCATION:Chamber Board Room 29201 Quinn Rd. Tomball\, TX 77375
UID:e.155.39192
SEQUENCE:3
DTSTAMP:20260420T121740Z
URL:https://business.tomballchamber.org/events/details/health-and-wellness-comittee-meeting-39192
END:VEVENT

END:VCALENDAR
