BEGIN:VCALENDAR
VERSION:2.0
PRODID:-//ChamberMaster//Event Calendar 2.0//EN
METHOD:PUBLISH
X-PUBLISHED-TTL:P3D
REFRESH-INTERVAL:P3D
CALSCALE:GREGORIAN
BEGIN:VEVENT
DTSTART:20071013T140000Z
DTEND:20071014T010000Z
X-MICROSOFT-CDO-ALLDAYEVENT:FALSE
SUMMARY:Hawgs With Heart Motorcyle Rally
DESCRIPTION:Tomball Centennial - Hawgs With Heart Motorcyle Rally - Benefiting Shop with A Cop & Blue Santa Bike Scavenger Hunt - Registration 9:00 a.m. Bike Parade - 3:00 p.m.\; Bike Show 5:00 p.m. 6:00 p.m. Dancing at the Depot with Live Band "Braid" Vendors Welcome - Food & Commercial - Sponsorships Available
X-ALT-DESC;FMTTYPE=text/html:<div>Tomball Centennial - Hawgs With Heart Motorcyle Rally - Benefiting Shop with A Cop &amp\; Blue Santa Bike Scavenger Hunt - Registration 9:00 a.m. Bike Parade - 3:00 p.m.\; Bike Show 5:00 p.m. 6:00 p.m. Dancing at the Depot with Live Band &quot\;Braid&quot\; Vendors Welcome - Food &amp\; Commercial - Sponsorships Available</div>
LOCATION:200 Market Street @ Elm (Tomball Train Depot)
UID:e.155.2301
SEQUENCE:3
DTSTAMP:20260422T011555Z
URL:https://business.tomballchamber.org/events/details/hawgs-with-heart-motorcyle-rally-10-13-2007-2301
END:VEVENT

END:VCALENDAR
