BEGIN:VCALENDAR
VERSION:2.0
PRODID:-//ChamberMaster//Event Calendar 2.0//EN
METHOD:PUBLISH
X-PUBLISHED-TTL:P3D
REFRESH-INTERVAL:P3D
CALSCALE:GREGORIAN
BEGIN:VEVENT
DTSTART:20080417T210000Z
DTEND:20080417T230000Z
X-MICROSOFT-CDO-ALLDAYEVENT:FALSE
SUMMARY:Hawaiia Luau
DESCRIPTION:Complimentary Dinner\nRSVP (281) 970-7979
X-ALT-DESC;FMTTYPE=text/html:Complimentary Dinner\nRSVP (281) 970-7979
LOCATION:Village on the Park 12102 Steepleway Blvd Houston\, TX 77065
UID:e.155.2455
SEQUENCE:3
DTSTAMP:20260421T163932Z
URL:https://business.tomballchamber.org/events/details/hawaiia-luau-04-17-2008-2455
END:VEVENT

END:VCALENDAR
