BEGIN:VCALENDAR
VERSION:2.0
PRODID:-//ChamberMaster//Event Calendar 2.0//EN
METHOD:PUBLISH
X-PUBLISHED-TTL:P3D
REFRESH-INTERVAL:P3D
CALSCALE:GREGORIAN
BEGIN:VEVENT
DTSTART:20080517T150000Z
DTEND:20080517T163000Z
X-MICROSOFT-CDO-ALLDAYEVENT:FALSE
SUMMARY:Habitat for Humanity - Volunteer Orientation
DESCRIPTION:Volunteer Orientation- learn about opportunities to serve your community with Habitat for Humanity.  Even if you are unsure of your construction skills\, Habitat needs volunteers in many areas including help with Information Technology and mentors to guide our families through the home buying process.
X-ALT-DESC;FMTTYPE=text/html:Volunteer Orientation- learn about opportunities to serve your community with Habitat for Humanity.  Even if you are unsure of your construction skills\, Habitat needs volunteers in many areas including help with Information Technology and mentors to guide our families through the home buying process.  
LOCATION:Habitat Office- 13572 State Hwy 249 Houston\, TX 77086
UID:e.155.2506
SEQUENCE:3
DTSTAMP:20260421T130610Z
URL:https://business.tomballchamber.org/events/details/habitat-for-humanity-volunteer-orientation-05-17-2008-2506
END:VEVENT

END:VCALENDAR
