BEGIN:VCALENDAR
VERSION:2.0
PRODID:-//ChamberMaster//Event Calendar 2.0//EN
METHOD:PUBLISH
X-PUBLISHED-TTL:P3D
REFRESH-INTERVAL:P3D
CALSCALE:GREGORIAN
BEGIN:VEVENT
DTSTART:20080522T130000Z
DTEND:20080523T023000Z
X-MICROSOFT-CDO-ALLDAYEVENT:FALSE
SUMMARY:Habitat for Humanity Clergy Breakfast
DESCRIPTION:A breakfast event to share with our church community how they can be involved in several different build projects throughtout the year.  And also share Habitat's plans for the future and celebrate what has been done this past year.
X-ALT-DESC;FMTTYPE=text/html:A breakfast event to share with our church community how they can be involved in several different build projects throughtout the year.  And also share Habitat's plans for the future and celebrate what has been done this past year. 
LOCATION:Lakewood United Methodist Church
UID:e.155.2505
SEQUENCE:3
DTSTAMP:20260421T145929Z
URL:https://business.tomballchamber.org/events/details/habitat-for-humanity-clergy-breakfast-05-22-2008-2505
END:VEVENT

END:VCALENDAR
