BEGIN:VCALENDAR
VERSION:2.0
PRODID:-//ChamberMaster//Event Calendar 2.0//EN
METHOD:PUBLISH
X-PUBLISHED-TTL:P3D
REFRESH-INTERVAL:P3D
CALSCALE:GREGORIAN
BEGIN:VEVENT
DTSTART:20241217T223000Z
DTEND:20241218T000000Z
X-MICROSOFT-CDO-ALLDAYEVENT:FALSE
SUMMARY:GTACC Women's Committee Happy Hour
DESCRIPTION:We're celebrating this month!\n\n\n\nLet's get together for a happy hour at District 2.4.9. and have a ornament exchange. Bring a wrapped ornament if you would like to participant. \n\n\n\n4:30 pm - 6:30 pm\n\n\n\nMUST REGISTER - $20 \n\nRegistration includes one drink and appetizers.
X-ALT-DESC;FMTTYPE=text/html:We&#39\;re celebrating this month!<br />\n<br />\nLet&#39\;s get together for a happy hour at District 2.4.9. and have a ornament exchange. Bring a wrapped ornament if you would like to participant.&nbsp\;<br />\n<br />\n4:30 pm - 6:30 pm<br />\n<br />\n<strong>MUST REGISTER - $20&nbsp\;<br />\nRegistration includes one drink and appetizers.&nbsp\;</strong><br />\n<br />\n&nbsp\;
LOCATION:District 2.4.9. 23238 TX-249 Tomball\, TX 77375
UID:e.155.39230
SEQUENCE:3
DTSTAMP:20260420T155920Z
URL:https://business.tomballchamber.org/events/details/gtacc-women-s-committee-happy-hour-39230
END:VEVENT

END:VCALENDAR
