BEGIN:VCALENDAR
VERSION:2.0
PRODID:-//ChamberMaster//Event Calendar 2.0//EN
METHOD:PUBLISH
X-PUBLISHED-TTL:P3D
REFRESH-INTERVAL:P3D
CALSCALE:GREGORIAN
BEGIN:VEVENT
DTSTART:20220922T123000Z
DTEND:20220922T140000Z
X-MICROSOFT-CDO-ALLDAYEVENT:FALSE
SUMMARY:GTACC Networking Breakfast
DESCRIPTION:Build relationships\, discover new businesses and learn about what is going on in the community!\n\n\n\nGet your 30 second pitch about your business ready to go - Let others get to know you and you know them!\n\n\n\nNo RSVP or Registration Required. \n\nPayment accepted at the door only.
X-ALT-DESC;FMTTYPE=text/html:Build relationships\, discover new businesses and learn about what is going on in the community!<br />\n<br />\nGet your 30 second pitch about your business ready to go -&nbsp\;Let others get to know you and you know them!<br />\n<br />\nNo RSVP or Registration Required.&nbsp\;<br />\nPayment accepted at the door only.&nbsp\;
LOCATION:Spring Fire Department 3975 FM 2920 Spring\, TX 77388
UID:e.155.35182
SEQUENCE:3
DTSTAMP:20260421T030118Z
URL:https://business.tomballchamber.org/events/details/gtacc-networking-breakfast-09-22-2022-35182
END:VEVENT

END:VCALENDAR
