BEGIN:VCALENDAR
VERSION:2.0
PRODID:-//ChamberMaster//Event Calendar 2.0//EN
METHOD:PUBLISH
X-PUBLISHED-TTL:P3D
REFRESH-INTERVAL:P3D
CALSCALE:GREGORIAN
BEGIN:VEVENT
DTSTART:20080508T140000Z
DTEND:20080509T210000Z
X-MICROSOFT-CDO-ALLDAYEVENT:FALSE
SUMMARY:GTACC MEMBERSHIP DRIVE - 2 Days
DESCRIPTION:Come join us for an hour shift at Parkway Chevroletfor the Greater Tomball Area Chamber of CommerceMembership DriveLots of fun and prizes.  Help someone else find outwhat a treasurer your Chamber is ! - Sign them up !
X-ALT-DESC;FMTTYPE=text/html:<div>Come join us for an hour shift at Parkway Chevrolet</div><div>for the Greater Tomball Area Chamber of Commerce</div><div>Membership Drive</div><div>Lots of fun and prizes.&nbsp\; Help someone else find out</div><div>what a treasurer your Chamber is ! - Sign them up !</div>
LOCATION:
UID:e.155.2487
SEQUENCE:3
DTSTAMP:20260421T130337Z
URL:https://business.tomballchamber.org/events/details/gtacc-membership-drive-2-days-05-08-2008-2487
END:VEVENT

END:VCALENDAR
