BEGIN:VCALENDAR
VERSION:2.0
PRODID:-//ChamberMaster//Event Calendar 2.0//EN
METHOD:PUBLISH
X-PUBLISHED-TTL:P3D
REFRESH-INTERVAL:P3D
CALSCALE:GREGORIAN
BEGIN:VEVENT
DTSTART:20220927T160000Z
DTEND:20220927T180000Z
X-MICROSOFT-CDO-ALLDAYEVENT:FALSE
SUMMARY:GTACC Health Wellness Alliance Quarterly Luncheon
DESCRIPTION:FREE COMMUNITY EVENT!\n\nImaging Tests - Explained\n\nSpeaker: Michael Everding\,  Manager Diagnostic Imaging Operations\n\nMD Anderson   Woodlands\nWith MD Anderson since 2011\, Mike began as a PET Technologist before becoming the Supervisor for Diagnostic Imaging at MD Anderson West Houston. in 2019 he became the Manager of the Woodlands location. He has been a part of several initiatives that have improved patient safety\, increased access\, and decreased redundant processes. Additionally\, he has presented and published abstracts at local Nuclear Medicine societies and nationally at the Society of Nuclear Medicine and Molecular Imaging.\n \n\nVarious businesses will be on site to visit with prior to and following the luncheon. \nLunch is Catered By The Original Rib Tickler\n\n\n\nYou can register to attend by clicking on Register Button\, emailing admin@tomballchamber.org\, or calling 281.351.7222.\n\n\n\nIf you would like your business to be a vendor for this event\, please click on the Register Here button above and complete\, or call the Chamber at 281.351.7222. The cost is $50 to be a vendor. \n\n\n\n -
X-ALT-DESC;FMTTYPE=text/html:<strong>FREE COMMUNITY EVENT!<br />\nImaging Tests - Explained<br />\nSpeaker:&nbsp\;</strong><span style="font-weight: 700\; color: rgb(0\, 0\, 0)\; font-family: &quot\;YACgEQNAr7w 0&quot\;\, _fb_\, auto\; text-transform: uppercase\;">Michael Everding\,&nbsp\;</span><span class="JsGRdQ white-space-prewrap" style="font-weight: 700\; color: rgb(0\, 0\, 0)\; font-family: &quot\;YACgEQNAr7w 0&quot\;\, _fb_\, auto\; text-transform: uppercase\;">&nbsp\;</span><span style="font-weight: 700\; color: rgb(0\, 0\, 0)\; font-family: &quot\;YACgEQNAr7w 0&quot\;\, _fb_\, auto\; text-transform: uppercase\;">Manager Diagnostic Imaging Operations</span><br />\n<span style="font-weight: 700\; color: rgb(0\, 0\, 0)\; font-family: &quot\;YACgEQNAr7w 0&quot\;\, _fb_\, auto\; text-transform: uppercase\;">MD Anderson &ndash\; Woodlands</span>\n<p class="_04xlpA direction-ltr align-center para-style-body" style="color: rgb(0\, 0\, 0)\; font-family: &quot\;YADK3w_fTc4 0&quot\;\, _fb_\, auto\; --font-size:12px\; --line-height:1.05\; line-height: 12px\;"><span class="JsGRdQ" style="font-weight: 700\;">With MD Anderson since 2011\, Mike began as a<span class="JsGRdQ white-space-prewrap" style="font-weight: 700\;"> </span>PET Technologist before becoming the<span class="JsGRdQ white-space-prewrap" style="font-weight: 700\;"> </span>Supervisor for Diagnostic Imaging at MD Anderson West Houston. in 2019 he became the<span class="JsGRdQ white-space-prewrap" style="font-weight: 700\;"> </span>Manager of the Woodlands location. He has been a part of several initiatives that have improved patient safety\, increased access\, and decreased redundant processes. Additionally\, he has presented and published abstracts at local Nuclear Medicine societies and nationally at the Society of Nuclear Medicine and Molecular Imaging.</span></p>\n&nbsp\;\n\n<p class="_04xlpA direction-ltr align-center para-style-body" style="color: rgb(2\, 17\, 50)\; line-height: 1.4\; font-family:\;" yacgeskubmw=""><span style="color: rgb(51\, 51\, 51)\;">Various businesses will be on site to visit with prior to and following the luncheon.&nbsp\;</span></p>\nLunch is Catered By The Original Rib Tickler<br />\n<br />\nYou can register to attend by clicking on Register Button\, emailing admin@tomballchamber.org\, or calling 281.351.7222.<br />\n<br />\n<span style="color:#FF0000\;"><strong>If you would like your business to be a vendor for this event\, please click on the Register Here button above and complete\, or call the Chamber at 281.351.7222. The cost is $50 to be a vendor.&nbsp\;</strong></span><br />\n<br />\n<font color="#ffffff" face="symbol"><span style="font-size: 13.33px\;">&nbsp\;-&nbsp\;</span></font>
LOCATION:Lone Star College - Tomball Beckendorf Conference Center 30555 Tomball Parkway Tomball\, TX 77375
UID:e.155.36459
SEQUENCE:3
DTSTAMP:20260420T234911Z
URL:https://business.tomballchamber.org/events/details/gtacc-health-wellness-alliance-quarterly-luncheon-36459
END:VEVENT

END:VCALENDAR
