BEGIN:VCALENDAR
VERSION:2.0
PRODID:-//ChamberMaster//Event Calendar 2.0//EN
METHOD:PUBLISH
X-PUBLISHED-TTL:P3D
REFRESH-INTERVAL:P3D
CALSCALE:GREGORIAN
BEGIN:VEVENT
DTSTART:20210806T163000Z
DTEND:20210806T180000Z
X-MICROSOFT-CDO-ALLDAYEVENT:FALSE
SUMMARY:GTACC First Friday Luncheon
DESCRIPTION:You're invited to join us at  the Beckendorf Conference Center for our First Friday Luncheon.\n\n\n\nTexas State Representative Dr. Tom Oliverson will be our guest speaker and will be giving an overview of the legislative session. \n\n\n\nWe will introduce our Public Safety Officer of the Month\, and provide local updates\, as well as present plenty of upcoming events for any and all to get involved!
X-ALT-DESC;FMTTYPE=text/html:You&#39\;re invited to join us at&nbsp\; the Beckendorf Conference Center for our First Friday Luncheon.<br />\n<br />\nTexas State Representative Dr. Tom Oliverson will be our guest speaker and will be giving an overview of the legislative session.&nbsp\;<br />\n<br />\nWe will introduce our Public Safety Officer of the Month\, and provide local updates\, as well as present plenty of upcoming events for any and all to get involved!&nbsp\;<br />\n<br />\n&nbsp\;
LOCATION:Lone Star College Tomball Beckendorf Conference Center 30555 Tomball Parkway\, Tomball TX
UID:e.155.34853
SEQUENCE:3
DTSTAMP:20260423T003410Z
URL:https://business.tomballchamber.org/events/details/gtacc-first-friday-luncheon-34853
END:VEVENT

END:VCALENDAR
