BEGIN:VCALENDAR
VERSION:2.0
PRODID:-//ChamberMaster//Event Calendar 2.0//EN
METHOD:PUBLISH
X-PUBLISHED-TTL:P3D
REFRESH-INTERVAL:P3D
CALSCALE:GREGORIAN
BEGIN:VEVENT
DTSTART;VALUE=DATE:20110321
DTEND;VALUE=DATE:20110322
TRANSP:TRANSPARENT
X-MICROSOFT-CDO-ALLDAYEVENT:TRUE
SUMMARY:GTACC 33rd Annual Golf Classic - Don't miss it!
DESCRIPTION:Golfer Packages:\n\n	Platinum ($5\,000) \n\n	Gold ($2\,500) \n\n	Silver ($1\,750) \n\n	Bronze ($1\,000) \n\n	Team ($600)\n\n	Individual Player ($150)\n\n	\n\n	 Non-Golfer Packages:\n\n	Beverage Cart Sponsor ($500) \n\n	Tent Sponsor ($300)\n\n	Hole Sponsorship ($150)\n\n	\n\n	OTHER SPONSORSHIP \n\n	   OPPORTUNITIES:  \n\n	Awards Sponsor SOLD\n\n	Snack Sponsor $500 \n\n	Photography Sponsor $300\n\n	Putting Green Sponsor $500 \n\n	Longest Drive Sponsor $250\n\n	Closest to the Pin - $500 \n\n	 \n\n	GOLF BALL DROP:\n\n	$5 per golf ball or $20 for 5 golf balls\;\n\n	sponsored by Wal-Mart Spring Cypress\n\n	 \n\n	Silent Auction Items\n\n	\n\n	Dinner only ($20)\n\n	  \n\n	Goodie Bag Items\n\n	225 items\n\n	 \n\n	Door Prizes\n\n	  \n\n	 1st Prize: 42" LCD TV \n\n	2nd Prize:  iPad-16GB\, \n\n	      with WI-FI\n\n	3rd Prize:Nintendo Wii\n\n	  \n\n	\n\n	Volunteer:\n\n	Time blocks are available \n\n	between 7 a.m.  & 6 p.m.
X-ALT-DESC;FMTTYPE=text/html:<div>\n	<span style="font-size: 12px">&nbsp\;<span style="font-style: italic\; font-weight: bold\; text-decoration: underline\; text-underline: single\; language: en"><span style="color: #00cc00"><span style="font-family: copperplate gothic light">Golfer Packages:</span></span></span><br />\n	<span style="font-weight: bold\; language: en"><span style="color: #00cc00"><span style="font-family: copperplate gothic light">Platinum ($5\,000) </span></span></span><br />\n	<span style="font-weight: bold\; language: en"><span style="color: #00cc00"><span style="font-family: copperplate gothic light">Gold ($2\,500) </span></span></span><br />\n	<span style="font-weight: bold\; language: en"><span style="color: #00cc00"><span style="font-family: copperplate gothic light">Silver ($1\,750) </span></span></span><br />\n	<span style="font-weight: bold\; language: en"><span style="color: #00cc00"><span style="font-family: copperplate gothic light">Bronze ($1\,000)&nbsp\;</span></span></span><br />\n	<span style="font-weight: bold\; language: en"><span style="color: #00cc00"><span style="font-family: copperplate gothic light">Team ($600)</span></span></span><br />\n	<span style="font-weight: bold\; language: en"><span style="color: #00cc00"><span style="font-family: copperplate gothic light">Individual Player ($150)</span></span></span></span><br />\n	<br />\n	&nbsp\;<span style="font-size: 12px"><span style="font-style: italic\; font-weight: bold\; text-decoration: underline\; text-underline: single\; language: en"><span style="color: #00cc00"><span style="font-family: copperplate gothic light">Non-Golfer Packages:</span></span></span><br />\n	<span style="font-weight: bold\; language: en"><span style="color: #00cc00"><span style="font-family: copperplate gothic light">Beverage Cart Sponsor </span></span></span><span style="font-weight: bold\; language: en"><span style="color: #00cc00"><span style="font-family: copperplate gothic light">($500) </span></span></span></span><br />\n	<span style="font-size: 12px"><span style="font-weight: bold\; language: en"><span style="color: #00cc00"><span style="font-family: copperplate gothic light">Tent Sponsor ($300)</span></span></span></span><br />\n	<span style="font-size: 12px"><span style="font-weight: bold\; language: en"><span style="color: #00cc00"><span style="font-family: copperplate gothic light">Hole Sponsorship ($150)</span></span></span></span><br />\n	<br />\n	<span style="font-size: 12px"><span style="font-weight: bold\; language: en"><span style="color: #00cc00"><span style="font-family: copperplate gothic light">OTHER SPONSORSHIP </span></span></span><br />\n	<span style="font-weight: bold\; language: en"><span style="color: #00cc00"><span style="font-family: copperplate gothic light">&nbsp\;&nbsp\; OPPORTUNITIES:&nbsp\; </span></span></span><br />\n	<span style="language: en"><span style="color: #080808">Awards Sponsor&mdash\;SOLD</span></span><br />\n	<span style="language: en"><span style="color: #080808">Snack Sponsor&mdash\;$500 </span></span><br />\n	<span style="language: en"><span style="color: #080808">Photography Sponsor&mdash\;$300</span></span><br />\n	<span style="language: en"><span style="color: #080808">Putting Green Sponsor&mdash\;$500 </span></span><br />\n	<span style="language: en"><span style="color: #080808">Longest Drive Sponsor&mdash\;$250</span></span><br />\n	<span style="language: en"><span style="color: #080808">Closest to the Pin - $500 </span></span><br />\n	&nbsp\;</span><br />\n	<span style="font-size: 12px"><span style="font-weight: bold\; language: en"><span style="color: #00cc00"><span style="font-family: copperplate gothic light">GOLF BALL DROP:</span></span></span><br />\n	<span style="language: en">$5 per golf ball or $20 for 5 golf balls\;</span><br />\n	<span style="language: en">sponsored by </span><span style="font-weight: bold\; language: en">Wal-Mart Spring Cypress</span><br />\n	&nbsp\;</span><br />\n	<span style="font-size: 12px"><span style="font-weight: bold\; language: en"><span style="color: #00cc00"><span style="font-family: copperplate gothic light">Silent Auction Items</span></span></span></span><br />\n	<br />\n	<span style="font-size: 12px"><span style="font-weight: bold\; language: en"><span style="color: #00cc00"><span style="font-family: copperplate gothic light">Dinner only ($20)</span></span></span></span><br />\n	&nbsp\;&nbsp\;<br />\n	<span style="font-size: 12px"><span style="font-weight: bold\; language: en"><span style="color: #00cc00"><span style="font-family: copperplate gothic light">Goodie Bag Items</span></span></span><br />\n	<span style="language: en">225 items</span><br />\n	&nbsp\;<br />\n	<span style="font-weight: bold\; language: en"><span style="color: #00cc00"><span style="font-family: copperplate gothic light">Door Prizes</span></span></span><br />\n	&nbsp\;&nbsp\;<br />\n	&nbsp\;<span style="font-style: italic\; font-weight: bold\; language: en"><span style="font-size: 16pt">1st Prize: 42&rdquo\; LCD TV </span></span><br />\n	<span style="font-style: italic\; font-weight: bold\; language: en"><span style="font-size: 16pt">2nd Prize:&nbsp\; iPad-16GB\, </span></span><br />\n	<span style="font-style: italic\; font-weight: bold\; language: en"><span style="font-size: 16pt">&nbsp\;&nbsp\;&nbsp\;&nbsp\;&nbsp\; with WI-FI</span></span><br />\n	<span style="font-style: italic\; font-weight: bold\; language: en"><span style="font-size: 18pt">3rd Prize:</span></span><span style="font-style: italic\; font-weight: bold\; language: en"><span style="font-size: 17pt">Nintendo Wii</span></span><br />\n	&nbsp\;&nbsp\;<br />\n	<br />\n	<span style="font-weight: bold\; language: en"><span style="color: #00cc00"><span style="font-family: copperplate gothic light">Volunteer:</span></span></span><br />\n	<span style="language: en">Time blocks are available </span><br />\n	<span style="language: en">between 7 a.m.&nbsp\; &amp\; 6 p.m.</span></span><br />\n	&nbsp\;<br />\n	&nbsp\;<br />\n	<br />\n	<br />\n	&nbsp\;</div>\n
LOCATION:Houston Oaks Country Club 22602 Hegar Road Hockley\, Texas 77447 www.houstonoaks.com
UID:e.155.6672
SEQUENCE:3
DTSTAMP:20260419T164718Z
URL:https://business.tomballchamber.org/events/details/gtacc-33rd-annual-golf-classic-don-t-miss-it-03-21-2011-6672
END:VEVENT

END:VCALENDAR
