BEGIN:VCALENDAR
VERSION:2.0
PRODID:-//ChamberMaster//Event Calendar 2.0//EN
METHOD:PUBLISH
X-PUBLISHED-TTL:P3D
REFRESH-INTERVAL:P3D
CALSCALE:GREGORIAN
BEGIN:VEVENT
DTSTART:20070716T190000Z
DTEND:20070716T200000Z
X-MICROSOFT-CDO-ALLDAYEVENT:FALSE
SUMMARY:Growing Up in Rose Hill
DESCRIPTION:Benjamin H. Scholl will talk about his experiences growing up before World War II.   Copies of his book\, Growing Up in Rose Hill: We Were Poor But Didn?t Know It\, will be available for purchase.
X-ALT-DESC;FMTTYPE=text/html:Benjamin H. Scholl will talk about his experiences growing up before World War II.   Copies of his book\, Growing Up in Rose Hill: We Were Poor But Didn?t Know It\, will be available for purchase. 
LOCATION:Tomball College & Community Library\, 1st floor Meeting Room
UID:e.155.2260
SEQUENCE:3
DTSTAMP:20260422T061201Z
URL:https://business.tomballchamber.org/events/details/growing-up-in-rose-hill-07-16-2007-2260
END:VEVENT

END:VCALENDAR
