BEGIN:VCALENDAR
VERSION:2.0
PRODID:-//ChamberMaster//Event Calendar 2.0//EN
METHOD:PUBLISH
X-PUBLISHED-TTL:P3D
REFRESH-INTERVAL:P3D
CALSCALE:GREGORIAN
BEGIN:VEVENT
DTSTART:20071129T220000Z
DTEND:20071129T230000Z
X-MICROSOFT-CDO-ALLDAYEVENT:FALSE
SUMMARY:Groundbreaking Ceremony
DESCRIPTION:Tomball Regional Medical CenterGroundbreakingLawrence and Medical Complex Drive
X-ALT-DESC;FMTTYPE=text/html:<div>Tomball Regional Medical Center</div><div>Groundbreaking</div><div>Lawrence and Medical Complex Drive</div>
LOCATION:Lawrence and Medical Complex Drive
UID:e.155.2368
SEQUENCE:3
DTSTAMP:20260421T233235Z
URL:https://business.tomballchamber.org/events/details/groundbreaking-ceremony-11-29-2007-2368
END:VEVENT

END:VCALENDAR
