BEGIN:VCALENDAR
VERSION:2.0
PRODID:-//ChamberMaster//Event Calendar 2.0//EN
METHOD:PUBLISH
X-PUBLISHED-TTL:P3D
REFRESH-INTERVAL:P3D
CALSCALE:GREGORIAN
BEGIN:VEVENT
DTSTART;VALUE=DATE:20070512
DTEND;VALUE=DATE:20070513
TRANSP:TRANSPARENT
X-MICROSOFT-CDO-ALLDAYEVENT:TRUE
SUMMARY:Grand Opening Comerica Bank
DESCRIPTION:Free food and drinks and fun for the entire family.  Free Drawing for a 42 inch plasma TV  \nDynamo Soccer Team Autograph Session from 11:00am till 1:00 pm \nDoor Prizes event is from 10:00 am till 2:00 pm
X-ALT-DESC;FMTTYPE=text/html:Free food and drinks and fun for the entire family.  Free Drawing for a 42 inch plasma TV  \nDynamo Soccer Team Autograph Session from 11:00am till 1:00 pm \nDoor Prizes event is from 10:00 am till 2:00 pm 
LOCATION:8830 Spring Cypress
UID:e.155.2234
SEQUENCE:3
DTSTAMP:20260422T091523Z
URL:https://business.tomballchamber.org/events/details/grand-opening-comerica-bank-05-12-2007-2234
END:VEVENT

END:VCALENDAR
