BEGIN:VCALENDAR
VERSION:2.0
PRODID:-//ChamberMaster//Event Calendar 2.0//EN
METHOD:PUBLISH
X-PUBLISHED-TTL:P3D
REFRESH-INTERVAL:P3D
CALSCALE:GREGORIAN
BEGIN:VEVENT
DTSTART;VALUE=DATE:20070406
DTEND;VALUE=DATE:20070407
TRANSP:TRANSPARENT
X-MICROSOFT-CDO-ALLDAYEVENT:TRUE
SUMMARY:Good Friday - Chamber Closed
DESCRIPTION:The Greater Tomball Area Chamber of Commerce\nwill be CLOSED in observance of Good Friday
X-ALT-DESC;FMTTYPE=text/html:The Greater Tomball Area Chamber of Commerce<br />will be CLOSED in observance of Good Friday
LOCATION:14011 Park Drive\, Suite 111 Tomball\, Texas
UID:e.155.1381
SEQUENCE:3
DTSTAMP:20260422T104505Z
URL:https://business.tomballchamber.org/events/details/good-friday-chamber-closed-04-06-2007-1381
END:VEVENT

END:VCALENDAR
