BEGIN:VCALENDAR
VERSION:2.0
PRODID:-//ChamberMaster//Event Calendar 2.0//EN
METHOD:PUBLISH
X-PUBLISHED-TTL:P3D
REFRESH-INTERVAL:P3D
CALSCALE:GREGORIAN
BEGIN:VEVENT
DTSTART:20071017T043000Z
DTEND:20071016T180000Z
X-MICROSOFT-CDO-ALLDAYEVENT:FALSE
SUMMARY:Golf Tournament - Downtown Tomball Association
DESCRIPTION:Golf Tournament at Windrose Golf ClubRegistration 11:30 - 1:00 p.m.Raffle\, door prizes and goodie bagsEntry includes: cart\, green fee\, range balls and dinner
X-ALT-DESC;FMTTYPE=text/html:<div>Golf Tournament at Windrose Golf Club</div><div>Registration 11:30 - 1:00 p.m.</div><div>Raffle\, door prizes and goodie bags</div><div>Entry includes: cart\, green fee\, range balls and dinner</div>
LOCATION:Windrose Golf Club
UID:e.155.2317
SEQUENCE:3
DTSTAMP:20260422T011502Z
URL:https://business.tomballchamber.org/events/details/golf-tournament-downtown-tomball-association-10-16-2007-2317
END:VEVENT

END:VCALENDAR
