BEGIN:VCALENDAR
VERSION:2.0
PRODID:-//ChamberMaster//Event Calendar 2.0//EN
METHOD:PUBLISH
X-PUBLISHED-TTL:P3D
REFRESH-INTERVAL:P3D
CALSCALE:GREGORIAN
BEGIN:VEVENT
DTSTART:20190712T010000Z
DTEND:20190712T045500Z
X-MICROSOFT-CDO-ALLDAYEVENT:FALSE
SUMMARY:Glen Templeton @ Main Street Crossing
DESCRIPTION:
X-ALT-DESC;FMTTYPE=text/html:
LOCATION:Main Street Crossing 111 W Main St\, Tomball\, TX 77375
UID:e.155.30401
SEQUENCE:3
DTSTAMP:20260425T215055Z
URL:https://business.tomballchamber.org/events/details/glen-templeton-main-street-crossing-07-11-2019-30401
END:VEVENT

END:VCALENDAR
