BEGIN:VCALENDAR
VERSION:2.0
PRODID:-//ChamberMaster//Event Calendar 2.0//EN
METHOD:PUBLISH
X-PUBLISHED-TTL:P3D
REFRESH-INTERVAL:P3D
CALSCALE:GREGORIAN
BEGIN:VEVENT
DTSTART:20071025T220000Z
DTEND:20071026T030000Z
X-MICROSOFT-CDO-ALLDAYEVENT:FALSE
SUMMARY:Glamour Under The Stars
DESCRIPTION:The E.C.H.O. Foundation benefiting Tomball Regional Medical Center is pleased to announce their 3rd Annual Fashion Show\, ?Glamour Under the Stars? on October 25\, 2007\, at the Woodlands Waterway Marriott Hotel and Convention Center.  Local models\, Politicians\, Physicians\, Hospital Staff and Administrators will be showing the latest in fall and holiday wear. There will be several quality merchants on hand for you?re shopping pleasure as well as raffle prizes. \n\nTo purchase tickets online please go to our events page or feel free to call the Foundation at 281.401.7928.
X-ALT-DESC;FMTTYPE=text/html:The E.C.H.O. Foundation benefiting Tomball Regional Medical Center is pleased to announce their 3rd Annual Fashion Show\, ?Glamour Under the Stars? on October 25\, 2007\, at the Woodlands Waterway Marriott Hotel and Convention Center.  Local models\, Politicians\, Physicians\, Hospital Staff and Administrators will be showing the latest in fall and holiday wear. There will be several quality merchants on hand for you?re shopping pleasure as well as raffle prizes. \n\nTo purchase tickets online please go to our events page or feel free to call the Foundation at 281.401.7928.\n\n
LOCATION:Th Woodlands Waterway Marriott
UID:e.155.2330
SEQUENCE:3
DTSTAMP:20260422T011336Z
URL:https://business.tomballchamber.org/events/details/glamour-under-the-stars-10-25-2007-2330
END:VEVENT

END:VCALENDAR
