BEGIN:VCALENDAR
VERSION:2.0
PRODID:-//ChamberMaster//Event Calendar 2.0//EN
METHOD:PUBLISH
X-PUBLISHED-TTL:P3D
REFRESH-INTERVAL:P3D
CALSCALE:GREGORIAN
BEGIN:VEVENT
DTSTART:20070421T150000Z
DTEND:20070421T160000Z
X-MICROSOFT-CDO-ALLDAYEVENT:FALSE
SUMMARY:Getting Organized
DESCRIPTION:Let professional organizer Judy Rose tell you how to create order out of chaos in your living and working spaces.  She will show and tell how to de-clutter and organize your life.
X-ALT-DESC;FMTTYPE=text/html:Let professional organizer Judy Rose tell you how to create order out of chaos in your living and working spaces.  She will show and tell how to de-clutter and organize your life. 
LOCATION:Tomball College & Community Library 30555 Tomball Pkwy. First floor Meeting Room
UID:e.155.1669
SEQUENCE:3
DTSTAMP:20260422T104250Z
URL:https://business.tomballchamber.org/events/details/getting-organized-04-21-2007-1669
END:VEVENT

END:VCALENDAR
