BEGIN:VCALENDAR
VERSION:2.0
PRODID:-//ChamberMaster//Event Calendar 2.0//EN
METHOD:PUBLISH
X-PUBLISHED-TTL:P3D
REFRESH-INTERVAL:P3D
CALSCALE:GREGORIAN
BEGIN:VEVENT
DTSTART:20070910T180000Z
DTEND:20070910T200000Z
X-MICROSOFT-CDO-ALLDAYEVENT:FALSE
SUMMARY:Garden Club Meeting
DESCRIPTION:Tomball Garden Club will be hosting a get together tea for our first meeting of the year. The club meets September through May each year hosting trips and speakers. Meetings are to be held at AmegyBank of Texas on the second floor . All meetings are at 1:00 pm.  Dues are $10.00 a year. Everyone is welcome.
X-ALT-DESC;FMTTYPE=text/html:<div>Tomball Garden Club will be hosting a get together tea for our first meeting of the year. The club meets September through May each year hosting trips and speakers. Meetings are to be held at AmegyBank of Texas on the second floor . All meetings are at 1:00&nbsp\;pm. &nbsp\;Dues are $10.00 a year. Everyone is welcome.</div>
LOCATION:AmegyBank on SH 249
UID:e.155.2305
SEQUENCE:3
DTSTAMP:20260422T030126Z
URL:https://business.tomballchamber.org/events/details/garden-club-meeting-09-10-2007-2305
END:VEVENT

END:VCALENDAR
