BEGIN:VCALENDAR
VERSION:2.0
PRODID:-//ChamberMaster//Event Calendar 2.0//EN
METHOD:PUBLISH
X-PUBLISHED-TTL:P3D
REFRESH-INTERVAL:P3D
CALSCALE:GREGORIAN
BEGIN:VEVENT
DTSTART:20071117T170000Z
DTEND:20071118T060000Z
X-MICROSOFT-CDO-ALLDAYEVENT:FALSE
SUMMARY:Fun Shop at Spring Nursery & Landscape
DESCRIPTION:"Winterizing Your Landscape":  with Susan Kooiman\, Master Gardener with the Montgomery County Extension Office\, will provide us with tips and important information on how to help your yard survive the winter and reach its full potential in the spring.  Indoor Fun Shop.  RSVP today to be entered in a prize drawing!
X-ALT-DESC;FMTTYPE=text/html:"Winterizing Your Landscape":  with Susan Kooiman\, Master Gardener with the Montgomery County Extension Office\, will provide us with tips and important information on how to help your yard survive the winter and reach its full potential in the spring.  Indoor Fun Shop.  RSVP today to be entered in a prize drawing!
LOCATION:Spring Nursery & Landscape 25252 FM 2978\, Tomball\, TX
UID:e.155.2360
SEQUENCE:3
DTSTAMP:20260421T233446Z
URL:https://business.tomballchamber.org/events/details/fun-shop-at-spring-nursery-landscape-11-17-2007-2360
END:VEVENT

END:VCALENDAR
