BEGIN:VCALENDAR
VERSION:2.0
PRODID:-//ChamberMaster//Event Calendar 2.0//EN
METHOD:PUBLISH
X-PUBLISHED-TTL:P3D
REFRESH-INTERVAL:P3D
CALSCALE:GREGORIAN
BEGIN:VEVENT
DTSTART;VALUE=DATE:20070621
DTEND;VALUE=DATE:20070622
TRANSP:TRANSPARENT
X-MICROSOFT-CDO-ALLDAYEVENT:TRUE
SUMMARY:From Sea to Shining Sea
DESCRIPTION:From Sea to Shining Sea: 200 Years Charting America?s Coasts exhibition tells the story of America?s first federal science agency\, the Coast Survey\, and its direct descendent\, the National Oceanic and Atmospheric Administration\nPlease join us June 21st to tour the exhibit and enjoy the programs\nChildren?s Programs:\n3:00 ? 4:00  p.m. ?Anchors Aweigh? presented by Arts Alive\n4:00 ? 5:00 p.m. ?Treasure Hunt? Mapping it out with GPS\nColoring Contest (coloring books will be provided)\nBirthday celebration 5:00 ? 7:00 p.m.\nCake\, Punch\, and coffee will be served
X-ALT-DESC;FMTTYPE=text/html:From Sea to Shining Sea: 200 Years Charting America?s Coasts exhibition tells the story of America?s first federal science agency\, the Coast Survey\, and its direct descendent\, the National Oceanic and Atmospheric Administration\nPlease join us June 21st to tour the exhibit and enjoy the programs\nChildren?s Programs:\n3:00 ? 4:00  p.m. ?Anchors Aweigh? presented by Arts Alive\n4:00 ? 5:00 p.m. ?Treasure Hunt? Mapping it out with GPS\nColoring Contest (coloring books will be provided)\nBirthday celebration 5:00 ? 7:00 p.m.\nCake\, Punch\, and coffee will be served
LOCATION:Tomball College & Community Library 30555 Tomball Parkway\, Tomball
UID:e.155.2257
SEQUENCE:3
DTSTAMP:20260422T075456Z
URL:https://business.tomballchamber.org/events/details/from-sea-to-shining-sea-06-21-2007-2257
END:VEVENT

END:VCALENDAR
