BEGIN:VCALENDAR
VERSION:2.0
PRODID:-//ChamberMaster//Event Calendar 2.0//EN
METHOD:PUBLISH
X-PUBLISHED-TTL:P3D
REFRESH-INTERVAL:P3D
CALSCALE:GREGORIAN
BEGIN:VEVENT
DTSTART:20070414T150000Z
DTEND:20070414T170000Z
X-MICROSOFT-CDO-ALLDAYEVENT:FALSE
SUMMARY:Free Kids Play Day
DESCRIPTION:Free Kids Play Day\n\nSaturday April 14th\nRain Make up for March 31st.! \n\nAges 7-11\nPlease call or e-mail if you and your child will be attending the Play Day.\n\nPlay More Tennis in Tomball 2007
X-ALT-DESC;FMTTYPE=text/html:Free Kids Play Day\n\nSaturday April 14th\nRain Make up for March 31st.! \n\nAges 7-11\nPlease call or e-mail if you and your child will be attending the Play Day.\n\nPlay More Tennis in Tomball 2007
LOCATION:Place: Matheson Park Tomball (1240 Ulrich)
UID:e.155.1942
SEQUENCE:3
DTSTAMP:20260422T104628Z
URL:https://business.tomballchamber.org/events/details/free-kids-play-day-04-14-2007-1942
END:VEVENT

END:VCALENDAR
