BEGIN:VCALENDAR
VERSION:2.0
PRODID:-//ChamberMaster//Event Calendar 2.0//EN
METHOD:PUBLISH
X-PUBLISHED-TTL:P3D
REFRESH-INTERVAL:P3D
CALSCALE:GREGORIAN
BEGIN:VEVENT
DTSTART:20070215T230000Z
DTEND:20070215T230000Z
X-MICROSOFT-CDO-ALLDAYEVENT:FALSE
SUMMARY:Fred Haas Toyota Country Tundra Tailgate Party
DESCRIPTION:
X-ALT-DESC;FMTTYPE=text/html:
LOCATION:22435 SH 249
UID:e.155.549
SEQUENCE:3
DTSTAMP:20260422T135805Z
URL:https://business.tomballchamber.org/events/details/fred-haas-toyota-country-tundra-tailgate-party-02-15-2007-549
END:VEVENT

END:VCALENDAR
