BEGIN:VCALENDAR
VERSION:2.0
PRODID:-//ChamberMaster//Event Calendar 2.0//EN
METHOD:PUBLISH
X-PUBLISHED-TTL:P3D
REFRESH-INTERVAL:P3D
CALSCALE:GREGORIAN
BEGIN:VEVENT
DTSTART:20071006T150000Z
DTEND:20071006T210000Z
X-MICROSOFT-CDO-ALLDAYEVENT:FALSE
SUMMARY:Flu Shots
DESCRIPTION:Flu Season is HereFlu Shots Available at Walgreens
X-ALT-DESC;FMTTYPE=text/html:<div>Flu Season is Here</div><div>Flu Shots Available at Walgreens</div>
LOCATION:28426 SH 249Tomball\, Texas 77375281.357.0024
UID:e.155.2337
SEQUENCE:3
DTSTAMP:20260422T011152Z
URL:https://business.tomballchamber.org/events/details/flu-shots-10-06-2007-2337
END:VEVENT

END:VCALENDAR
