BEGIN:VCALENDAR
VERSION:2.0
PRODID:-//ChamberMaster//Event Calendar 2.0//EN
METHOD:PUBLISH
X-PUBLISHED-TTL:P3D
REFRESH-INTERVAL:P3D
CALSCALE:GREGORIAN
BEGIN:VEVENT
DTSTART:20200506T180000Z
DTEND:20200506T200000Z
X-MICROSOFT-CDO-ALLDAYEVENT:FALSE
SUMMARY:Five Myths of Medicaid
DESCRIPTION:Find out what the Five Myths of Medicaid (financing long term skilled nursing care) and discover the truth of Medicaid eligibility.
X-ALT-DESC;FMTTYPE=text/html:Find out what the Five Myths of Medicaid (financing long term skilled nursing care) and discover the truth of Medicaid eligibility.
LOCATION:Bulgawicz Law Firm or Virtual via Zoom
UID:e.155.32431
SEQUENCE:3
DTSTAMP:20260424T230009Z
URL:https://business.tomballchamber.org/events/details/five-myths-of-medicaid-05-06-2020-32431
END:VEVENT

END:VCALENDAR
