BEGIN:VCALENDAR
VERSION:2.0
PRODID:-//ChamberMaster//Event Calendar 2.0//EN
METHOD:PUBLISH
X-PUBLISHED-TTL:P3D
REFRESH-INTERVAL:P3D
CALSCALE:GREGORIAN
BEGIN:VEVENT
DTSTART:20070202T060000Z
DTEND:20070202T060000Z
X-MICROSOFT-CDO-ALLDAYEVENT:FALSE
SUMMARY:First Friday Networking Luncheon
DESCRIPTION:
X-ALT-DESC;FMTTYPE=text/html:
LOCATION:Elmer L.Beckendorf Conference Center at Tomball College
UID:e.155.7
SEQUENCE:3
DTSTAMP:20260422T151124Z
URL:https://business.tomballchamber.org/events/details/first-friday-networking-luncheon-02-02-2007-7
END:VEVENT

END:VCALENDAR
