BEGIN:VCALENDAR
VERSION:2.0
PRODID:-//ChamberMaster//Event Calendar 2.0//EN
METHOD:PUBLISH
X-PUBLISHED-TTL:P3D
REFRESH-INTERVAL:P3D
CALSCALE:GREGORIAN
BEGIN:VEVENT
DTSTART:20070713T163000Z
DTEND:20070713T183000Z
X-MICROSOFT-CDO-ALLDAYEVENT:FALSE
SUMMARY:First Friday Luncheon
DESCRIPTION:
X-ALT-DESC;FMTTYPE=text/html:
LOCATION:Beckendorf Conference Center at Tomball College
UID:e.155.1945
SEQUENCE:3
DTSTAMP:20260422T060501Z
URL:https://business.tomballchamber.org/events/details/first-friday-luncheon-07-13-2007-1945
END:VEVENT

END:VCALENDAR
