BEGIN:VCALENDAR
VERSION:2.0
PRODID:-//ChamberMaster//Event Calendar 2.0//EN
METHOD:PUBLISH
X-PUBLISHED-TTL:P3D
REFRESH-INTERVAL:P3D
CALSCALE:GREGORIAN
BEGIN:VEVENT
DTSTART:20080404T163000Z
DTEND:20080404T180000Z
X-MICROSOFT-CDO-ALLDAYEVENT:FALSE
SUMMARY:First Friday Luncheon
DESCRIPTION:
X-ALT-DESC;FMTTYPE=text/html:
LOCATION:Beckendorf Conference Center at Lone Star College-Tomball
UID:e.155.1954
SEQUENCE:3
DTSTAMP:20260421T145507Z
URL:https://business.tomballchamber.org/events/details/first-friday-luncheon-04-04-2008-1954
END:VEVENT

END:VCALENDAR
