BEGIN:VCALENDAR
VERSION:2.0
PRODID:-//ChamberMaster//Event Calendar 2.0//EN
METHOD:PUBLISH
X-PUBLISHED-TTL:P3D
REFRESH-INTERVAL:P3D
CALSCALE:GREGORIAN
BEGIN:VEVENT
DTSTART:20070413T163000Z
DTEND:20070413T180000Z
X-MICROSOFT-CDO-ALLDAYEVENT:FALSE
SUMMARY:First (2ND) Friday Luncheon
DESCRIPTION:The First Friday Luncheon this month will be held on the \n2nd Friday - We will be closed in observance of Good Friday\nfor April 6th.
X-ALT-DESC;FMTTYPE=text/html:The First Friday Luncheon this month will be held on the&nbsp\;<br />2nd Friday - We will be closed in observance of Good Friday<br />for April 6th.
LOCATION:Elmer Beckendorf Conference Center Tomball College - 30555 Tomball Parkway ( SH249 North - Enter the college at Zion Rd - Go to 1st Stop Sign and turn left into parking lot. The conference center on the left)
UID:e.155.1382
SEQUENCE:3
DTSTAMP:20260422T104312Z
URL:https://business.tomballchamber.org/events/details/first-2nd-friday-luncheon-04-13-2007-1382
END:VEVENT

END:VCALENDAR
