BEGIN:VCALENDAR
VERSION:2.0
PRODID:-//ChamberMaster//Event Calendar 2.0//EN
METHOD:PUBLISH
X-PUBLISHED-TTL:P3D
REFRESH-INTERVAL:P3D
CALSCALE:GREGORIAN
BEGIN:VEVENT
DTSTART:20070512T153000Z
DTEND:20070512T173000Z
X-MICROSOFT-CDO-ALLDAYEVENT:FALSE
SUMMARY:Fire and child safety
DESCRIPTION:Fire trucks from the  Tomball Fire Station\,  Games for the kids. Educational material for the Parents. \nThere will be finger printing and oral DNA swab kit the parent can take home. \nLets all work together and protect and educate our FUTURE.
X-ALT-DESC;FMTTYPE=text/html:Fire trucks from the  Tomball Fire Station\,  Games for the kids. Educational material for the Parents. \nThere will be finger printing and oral DNA swab kit the parent can take home. \nLets all work together and protect and educate our FUTURE.
LOCATION:The Park at Springcreek 29807 Tomball Parkway Tomball\, TX 77375 281-357-8800
UID:e.155.2222
SEQUENCE:3
DTSTAMP:20260422T091345Z
URL:https://business.tomballchamber.org/events/details/fire-and-child-safety-05-12-2007-2222
END:VEVENT

END:VCALENDAR
