BEGIN:VCALENDAR
VERSION:2.0
PRODID:-//ChamberMaster//Event Calendar 2.0//EN
METHOD:PUBLISH
X-PUBLISHED-TTL:P3D
REFRESH-INTERVAL:P3D
CALSCALE:GREGORIAN
BEGIN:VEVENT
DTSTART:20080612T233000Z
DTEND:20080613T013000Z
X-MICROSOFT-CDO-ALLDAYEVENT:FALSE
SUMMARY:Film ''A Touring Taste of Dance Salad Festival''
DESCRIPTION:A showing of the film "A Touring Taste of Dance Salad Festival". This film features live performances by leading dancers at the annual Dance Salad Festival. For all ages.
X-ALT-DESC;FMTTYPE=text/html:A showing of the film "A Touring Taste of Dance Salad Festival". This film features live performances by leading dancers at the annual Dance Salad Festival. For all ages. 
LOCATION:Lone Star College - Tomball Community Library
UID:e.155.2525
SEQUENCE:3
DTSTAMP:20260421T111558Z
URL:https://business.tomballchamber.org/events/details/film-a-touring-taste-of-dance-salad-festival-06-12-2008-2525
END:VEVENT

END:VCALENDAR
