BEGIN:VCALENDAR
VERSION:2.0
PRODID:-//ChamberMaster//Event Calendar 2.0//EN
METHOD:PUBLISH
X-PUBLISHED-TTL:P3D
REFRESH-INTERVAL:P3D
CALSCALE:GREGORIAN
BEGIN:VEVENT
DTSTART:20070630T160000Z
DTEND:20070630T180000Z
X-MICROSOFT-CDO-ALLDAYEVENT:FALSE
SUMMARY:Fiction Workshop & Book Signing
DESCRIPTION:Author Rosemary Poole-Carter will present a free workshop entitled "How to Put a Twist in Your Tale: Plotting Basics for Fiction Writers" for teens and adults.  Ms. Poole-Carter is the author of books such as Juliette Ascending and What Remains.  Please pre-register in advance at the library reference desk or by calling the library.
X-ALT-DESC;FMTTYPE=text/html:Author Rosemary Poole-Carter will present a free workshop entitled "How to Put a Twist in Your Tale: Plotting Basics for Fiction Writers" for teens and adults.  Ms. Poole-Carter is the author of books such as Juliette Ascending and What Remains.  Please pre-register in advance at the library reference desk or by calling the library.  
LOCATION:Tomball College & Community Library 1st floor Meeting Room
UID:e.155.2245
SEQUENCE:3
DTSTAMP:20260422T073436Z
URL:https://business.tomballchamber.org/events/details/fiction-workshop-book-signing-06-30-2007-2245
END:VEVENT

END:VCALENDAR
