BEGIN:VCALENDAR
VERSION:2.0
PRODID:-//ChamberMaster//Event Calendar 2.0//EN
METHOD:PUBLISH
X-PUBLISHED-TTL:P3D
REFRESH-INTERVAL:P3D
CALSCALE:GREGORIAN
BEGIN:VEVENT
DTSTART:20070330T050000Z
DTEND:20070330T050000Z
X-MICROSOFT-CDO-ALLDAYEVENT:FALSE
SUMMARY:Fellowship Fantastic
DESCRIPTION:Dinner\, Silent Auction\, Live Auction
X-ALT-DESC;FMTTYPE=text/html:Dinner\, Silent Auction\, Live Auction
LOCATION:1119 South Cherry Street\, Tomball Turn off of Main Street in Tomball (FM 2920) at the light closest to the railroad tracks. Go seven tenths mile south and Step by Step is on the left.
UID:e.155.12
SEQUENCE:3
DTSTAMP:20260422T121619Z
URL:https://business.tomballchamber.org/events/details/fellowship-fantastic-03-30-2007-12
END:VEVENT

END:VCALENDAR
