BEGIN:VCALENDAR
VERSION:2.0
PRODID:-//ChamberMaster//Event Calendar 2.0//EN
METHOD:PUBLISH
X-PUBLISHED-TTL:P3D
REFRESH-INTERVAL:P3D
CALSCALE:GREGORIAN
BEGIN:VEVENT
DTSTART:20071027T003000Z
DTEND:20071028T040000Z
X-MICROSOFT-CDO-ALLDAYEVENT:FALSE
SUMMARY:Fall Festival presented by Tomball Fire Department
DESCRIPTION:This annual event attracts over 200 children and adults\, who enjoy games\, moonwalks\, and a haunted house and other activities. The department strives to provide a safe environment for the local community.
X-ALT-DESC;FMTTYPE=text/html:This annual event attracts over 200 children and adults\, who enjoy games\, moonwalks\, and a haunted house and other activities. The department strives to provide a safe environment for the local community.
LOCATION:709 Main St. Tomball TX (Old Tomball ISD Admin Building)
UID:e.155.2327
SEQUENCE:3
DTSTAMP:20260422T011518Z
URL:https://business.tomballchamber.org/events/details/fall-festival-presented-by-tomball-fire-department-10-26-2007-2327
END:VEVENT

END:VCALENDAR
