BEGIN:VCALENDAR
VERSION:2.0
PRODID:-//ChamberMaster//Event Calendar 2.0//EN
METHOD:PUBLISH
X-PUBLISHED-TTL:P3D
REFRESH-INTERVAL:P3D
CALSCALE:GREGORIAN
BEGIN:VEVENT
DTSTART:20080614T180000Z
DTEND:20080614T193000Z
X-MICROSOFT-CDO-ALLDAYEVENT:FALSE
SUMMARY:Faces of Evil
DESCRIPTION:On Saturday\, June 14th\, at 1pm\, nationally recognized forensic artist Lois Gibson will present a program at Lone Star College-Tomball Community Library. She is the featured author for the iReader Adult Summer Reading Program and will talk about her work and her book\, Faces of Evil. Paperback copies will be available for her to autograph after the program. Lois works for the City of Houston Police Dept and her web site is http://www.loisgibson.com/. Sign up for iReader\, the Adult Summer Reading Program\, read 4 books this summer and you may enter drawings for Barnes & Noble gift certificates.
X-ALT-DESC;FMTTYPE=text/html:<div>On Saturday\, June 14th\, at 1pm\, nationally recognized forensic artist Lois&nbsp\;Gibson will present a program at Lone Star College-Tomball Community Library. She is the featured author for the iReader Adult Summer Reading Program and will talk about her work and her book\, Faces of Evil. Paperback copies will be available for her to autograph after the program. Lois works for the City of Houston Police Dept and her web site is http://www.loisgibson.com/. Sign up for iReader\, the Adult Summer Reading Program\, read 4 books this summer and you may enter drawings for Barnes &amp\; Noble gift certificates.</div>
LOCATION:Lone Star College-Tomball Community Library\, 30555 Tomball Parkway\, Tomball\, TX
UID:e.155.2511
SEQUENCE:3
DTSTAMP:20260421T110535Z
URL:https://business.tomballchamber.org/events/details/faces-of-evil-06-14-2008-2511
END:VEVENT

END:VCALENDAR
