BEGIN:VCALENDAR
VERSION:2.0
PRODID:-//ChamberMaster//Event Calendar 2.0//EN
METHOD:PUBLISH
X-PUBLISHED-TTL:P3D
REFRESH-INTERVAL:P3D
CALSCALE:GREGORIAN
BEGIN:VEVENT
DTSTART:20080612T230000Z
DTEND:20080613T000000Z
X-MICROSOFT-CDO-ALLDAYEVENT:FALSE
SUMMARY:Event at Tomball Regional Medical Center
DESCRIPTION:LapBand Seminar:Weight Loss Surgery Facts - FREE Community Seminar
X-ALT-DESC;FMTTYPE=text/html:LapBand Seminar:Weight Loss Surgery Facts - FREE Community Seminar
LOCATION:First Floor Tower Conference/Private Dining Room
UID:e.155.2500
SEQUENCE:3
DTSTAMP:20260421T130614Z
URL:https://business.tomballchamber.org/events/details/event-at-tomball-regional-medical-center-06-12-2008-2500
END:VEVENT

END:VCALENDAR
