BEGIN:VCALENDAR
VERSION:2.0
PRODID:-//ChamberMaster//Event Calendar 2.0//EN
METHOD:PUBLISH
X-PUBLISHED-TTL:P3D
REFRESH-INTERVAL:P3D
CALSCALE:GREGORIAN
BEGIN:VEVENT
DTSTART:20080604T230000Z
DTEND:20080605T000000Z
X-MICROSOFT-CDO-ALLDAYEVENT:FALSE
SUMMARY:Event at Tomball Regional Medical Center
DESCRIPTION:Erectile Dysfunction: Causes\, concerns & options - FREE Community Seminar
X-ALT-DESC;FMTTYPE=text/html:Erectile Dysfunction: Causes\, concerns & options - FREE Community Seminar
LOCATION:First Floor Tower Conference Room/Private Dining Room
UID:e.155.2497
SEQUENCE:3
DTSTAMP:20260421T111041Z
URL:https://business.tomballchamber.org/events/details/event-at-tomball-regional-medical-center-06-04-2008-2497
END:VEVENT

END:VCALENDAR
