BEGIN:VCALENDAR
VERSION:2.0
PRODID:-//ChamberMaster//Event Calendar 2.0//EN
METHOD:PUBLISH
X-PUBLISHED-TTL:P3D
REFRESH-INTERVAL:P3D
CALSCALE:GREGORIAN
BEGIN:VEVENT
DTSTART:20080528T230000Z
DTEND:20080529T000000Z
X-MICROSOFT-CDO-ALLDAYEVENT:FALSE
SUMMARY:Event at Tomball Regional Medical Center
DESCRIPTION:Feeling the Burn: Acid Reflux and GERD - Symtoms\, treatment and technology.  FREE Community Seminar
X-ALT-DESC;FMTTYPE=text/html:Feeling the Burn: Acid Reflux and GERD - Symtoms\, treatment and technology.  FREE Community Seminar
LOCATION:First Floor Conference/Private Dining Room
UID:e.155.2496
SEQUENCE:3
DTSTAMP:20260421T130814Z
URL:https://business.tomballchamber.org/events/details/event-at-tomball-regional-medical-center-05-28-2008-2496
END:VEVENT

END:VCALENDAR
