BEGIN:VCALENDAR
VERSION:2.0
PRODID:-//ChamberMaster//Event Calendar 2.0//EN
METHOD:PUBLISH
X-PUBLISHED-TTL:P3D
REFRESH-INTERVAL:P3D
CALSCALE:GREGORIAN
BEGIN:VEVENT
DTSTART:20080515T230000Z
DTEND:20080516T000000Z
X-MICROSOFT-CDO-ALLDAYEVENT:FALSE
SUMMARY:Event at Tomball Regional Medical Center
DESCRIPTION:Caring for yourself while caring for others by the author of Soul Food for the Sandwich Generation.  FREE Community Seminar
X-ALT-DESC;FMTTYPE=text/html:Caring for yourself while caring for others by the author of Soul Food for the Sandwich Generation.  FREE Community Seminar
LOCATION:The Heritage Retirement Community
UID:e.155.2494
SEQUENCE:3
DTSTAMP:20260421T130957Z
URL:https://business.tomballchamber.org/events/details/event-at-tomball-regional-medical-center-05-15-2008-2494
END:VEVENT

END:VCALENDAR
